BEGIN:VCALENDAR
VERSION:2.0
PRODID:-//Khadijah Islamic Center – Montreal - ECPv6.15.17//NONSGML v1.0//EN
CALSCALE:GREGORIAN
METHOD:PUBLISH
X-ORIGINAL-URL:https://khadijahmtl.org
X-WR-CALDESC:Events for Khadijah Islamic Center – Montreal
REFRESH-INTERVAL;VALUE=DURATION:PT1H
X-Robots-Tag:noindex
X-PUBLISHED-TTL:PT1H
BEGIN:VTIMEZONE
TZID:Asia/Dubai
BEGIN:STANDARD
TZOFFSETFROM:+0400
TZOFFSETTO:+0400
TZNAME:+04
DTSTART:20240101T000000
END:STANDARD
END:VTIMEZONE
BEGIN:VEVENT
DTSTART;TZID=Asia/Dubai:20250721T210000
DTEND;TZID=Asia/Dubai:20250721T230000
DTSTAMP:20260426T000539
CREATED:20250716T024534Z
LAST-MODIFIED:20250716T024534Z
UID:10000008-1753131600-1753138800@khadijahmtl.org
SUMMARY:The call that transforms --By iERA Canada
DESCRIPTION:Let’s come together to reconnect with Allah and strengthen our faith on 21th July 2025 \nThe Call That Transforms\n📅 Monday\, July 21\, 2025\n🕘 9:00 PM\n📍 Khadija Islamic Centre\, 2358 Centre St\, Montreal\, QC H3K 1J6\n🎤 Speaker: Br. Ali Usman (iERA Outreach Specialist)\n✅ All brothers & sisters welcome!\n🔗 Register here: eventbrite.ca/e/1475124239309
URL:https://khadijahmtl.org/event/the-call-that-transforms-by-iera-canada/
LOCATION:Khadijah Centre\, 2385 Rue Centre\, Montreal\, Quebec\, H3K1J6\, Canada
END:VEVENT
END:VCALENDAR